BEGIN:VCALENDAR
VERSION:2.0
PRODID:-//wp-events-plugin.com//7.2.3.1//EN
TZID:America/New_York
X-WR-TIMEZONE:America/New_York
BEGIN:VEVENT
UID:42@uuberks.org
DTSTART;TZID=America/New_York:20181020T190000
DTEND;TZID=America/New_York:20181020T210000
DTSTAMP:20180906T225024Z
URL:https://uuberks.org/events/2018-reading-naacp-freedom-fund-gala/
SUMMARY:2018 Reading NAACP Freedom Fund Gala
DESCRIPTION:On Saturday\, October 20\, 2018 the Reading Branch NAACP will h
 old its 31st Annual Freedom Fund Gala at The Inn at Reading. The funds ra
 ised assist in supporting the local branch in providing annual scholarship
 s for our youth in Reading while recognizing the involvement and advocacy 
 of organizations and individuals working in the community. Dr. Reverend Sa
 ndra Fees will be the M.C. for the evening.\n\nTickets are $60 in advance 
 and $65 at the door. If you would like to attend please contact Melissa at
  office@uuberks.org to reserve your spot. Tables seat 8 people and we wo
 uld like to be able to reserve tables for the FUUBC group in advance to en
 sure that we are seated together. Please RSVP no later than October 5th.\n
 \nMenu options include:\n\nStuffed Chicken Breast\, cornbread stuffing\n\n
 Butter Crumb Flounder\, scampi sauce\n\nEggplant Parmigiana with Fettucine
 \n\nChicken Tenders &amp\; Fries
CATEGORIES:Community,External
LOCATION:The Inn at Reading\, 1040 Park Rd.\, Wyomissing\, PA\, 19610\, Uni
 ted States
GEO:40.348361;-75.960889
X-APPLE-STRUCTURED-LOCATION;VALUE=URI;X-ADDRESS=1040 Park Rd.\, Wyomissing\
 , PA\, 19610\, United States;X-APPLE-RADIUS=100;X-TITLE=The Inn at Reading
 :geo:40.348361,-75.960889
END:VEVENT
BEGIN:VTIMEZONE
TZID:America/New_York
X-LIC-LOCATION:America/New_York
BEGIN:DAYLIGHT
DTSTART:20180311T030000
TZOFFSETFROM:-0500
TZOFFSETTO:-0400
TZNAME:EDT
END:DAYLIGHT
END:VTIMEZONE
END:VCALENDAR