BEGIN:VCALENDAR
VERSION:2.0
PRODID:-//wp-events-plugin.com//7.2.3.1//EN
TZID:America/New_York
X-WR-TIMEZONE:America/New_York
BEGIN:VEVENT
UID:646@uuberks.org
DTSTART;TZID=America/New_York:20200305T180000
DTEND;TZID=America/New_York:20200305T200000
DTSTAMP:20200226T142210Z
URL:https://uuberks.org/events/20s-30s-folx-meeting/
SUMMARY:20s/30s folx Meeting
DESCRIPTION:The 20s/30s folx will be meeting on Thursday\, March 5th\, at 6
  pm at Nic’s apartment in Wyomissing for taco salad and “March Madness
 ” table game night! For directions/questions/RSVP e-mail Nic at nic.sto
 ltzfus@icloud.com.
END:VEVENT
BEGIN:VTIMEZONE
TZID:America/New_York
X-LIC-LOCATION:America/New_York
BEGIN:STANDARD
DTSTART:20191103T010000
TZOFFSETFROM:-0400
TZOFFSETTO:-0500
TZNAME:EST
END:STANDARD
END:VTIMEZONE
END:VCALENDAR