BEGIN:VCALENDAR
VERSION:2.0
PRODID:-//wp-events-plugin.com//7.2.3.1//EN
TZID:America/New_York
X-WR-TIMEZONE:America/New_York
BEGIN:VEVENT
UID:657@uuberks.org
DTSTART;TZID=America/New_York:20200426T120000
DTEND;TZID=America/New_York:20200426T130000
DTSTAMP:20200423T150136Z
URL:https://uuberks.org/events/board-qa/
SUMMARY:Board Q&A
DESCRIPTION:The Board would like to invite you to participate in a Q&amp\;A
  session to ask/learn about decisions that the church leadership and other
 s have been making to adjust to these uncertain times. These topics includ
 e decisions made about the budget setting process\, the pledge drive\, the
  annual auction\, the May 17th Spring Congregational Meeting \, and what w
 e are doing to ensure the church’s financial wellbeing.\n\nJoin Zoom Mee
 ting\nhttps://zoom.us/j/94751890713?pwd=MzA1SGVVcWdOblJaOURWdFUwUTg4Zz09\n
 \nMeeting ID: 947 5189 0713\nPassword: 121562\nOne tap mobile\n+1929205609
 9\,\,94751890713#\,\,#\,121562# US (New York)
END:VEVENT
BEGIN:VTIMEZONE
TZID:America/New_York
X-LIC-LOCATION:America/New_York
BEGIN:DAYLIGHT
DTSTART:20200308T030000
TZOFFSETFROM:-0500
TZOFFSETTO:-0400
TZNAME:EDT
END:DAYLIGHT
END:VTIMEZONE
END:VCALENDAR