BEGIN:VCALENDAR
VERSION:2.0
PRODID:-//wp-events-plugin.com//7.2.3.1//EN
TZID:America/New_York
X-WR-TIMEZONE:America/New_York
BEGIN:VEVENT
UID:813@uuberks.org
DTSTART;TZID=America/New_York:20231201T190000
DTEND;TZID=America/New_York:20231201T203000
DTSTAMP:20231104T163723Z
URL:https://uuberks.org/events/breaking-barriers-building-beliefs-workshop
 /
SUMMARY:Breaking Barriers\, Building Beliefs Workshop
DESCRIPTION:
END:VEVENT
BEGIN:VTIMEZONE
TZID:America/New_York
X-LIC-LOCATION:America/New_York
BEGIN:STANDARD
DTSTART:20231105T010000
TZOFFSETFROM:-0400
TZOFFSETTO:-0500
TZNAME:EST
END:STANDARD
END:VTIMEZONE
END:VCALENDAR