BEGIN:VCALENDAR
VERSION:2.0
PRODID:-//wp-events-plugin.com//7.2.3.1//EN
TZID:America/New_York
X-WR-TIMEZONE:America/New_York
BEGIN:VEVENT
UID:707@uuberks.org
DTSTART;TZID=America/New_York:20201011T190000
DTEND;TZID=America/New_York:20201011T210000
DTSTAMP:20201008T165500Z
URL:https://uuberks.org/events/caste-book-discussion/
SUMMARY:"Caste" Book Discussion
DESCRIPTION:\nJoin us for a deep-dive book discussion into Caste by Isabel
  Wilkerson starting October 11th!\n\n\n\nCome join Lauren Fritz\, Joanna G
 roebel and Rachel Gutzler as we facilitate a six week discussion Sunday ev
 enings\, 7- 9 pm on this important book\, by this gifted Pulitzer Prize-wi
 nning author.\n\nWe will be meeting the following evenings from 7-9 PM ove
 r Google Meet (you will need a gmail address to participate): 10/11\, 10/2
 5\, 11/8\, 11/22\, 12/6 and 12/20.\n\n“This is a brilliant book\, well t
 imed in the face of a pandemic and police brutality that cleave along the 
 lines of a caste system.” – Booklist (starred review)\n\n“Magnificen
 t…a trailblazing work on the birth of inequality…Caste offers a forwar
 d-facing vision.  Bursting with insight and love\, this book may well hel
 p save us.” – O: The Oprah Magazine\n\n“Wilkerson’s book is a powe
 rful\, illuminating and heartfelt account of how hierarchy reproduces itse
 lf\, as well as a call to action for the difficult work of undoing it.” 
 – The Washington Post\n\nReserve your place by emailing: office@uuberks.
 org\n\nLooking forward to a meaningful discussion!\n\nOptions for download
 ing the book:\n\n\nhttps://play.google.com/store/books/details?id=HcLNDwAA
 QBAJ&amp\;hl=en-US&amp\;gl=US\n\naudio book:\n\nhttps://play.google.com/st
 ore/audiobooks/details?id=AQAAAEBsXVUdKM&amp\;gl=US&amp\;hl=en-US&amp\;sou
 rce=productsearch&amp\;utm_source=HA&amp\;utm_medium=SEM&amp\;utm_campaign
 =PLA&amp\;pcampaignid=MKT-FDR-na-us-1000189-Med-pla-bk-Evergreen-Jul1520-P
 LA-Audiobooks_History&amp\;gclid=EAIaIQobChMIides1v-V7AIVkY3ICh1cRwNyEAQYB
 CABEgLHdfD_BwE&amp\;gclsrc=aw.ds\n\n
END:VEVENT
BEGIN:VTIMEZONE
TZID:America/New_York
X-LIC-LOCATION:America/New_York
BEGIN:DAYLIGHT
DTSTART:20200308T030000
TZOFFSETFROM:-0500
TZOFFSETTO:-0400
TZNAME:EDT
END:DAYLIGHT
END:VTIMEZONE
END:VCALENDAR