BEGIN:VCALENDAR
VERSION:2.0
PRODID:-//wp-events-plugin.com//7.2.3.1//EN
TZID:America/New_York
X-WR-TIMEZONE:America/New_York
BEGIN:VEVENT
UID:709@uuberks.org
DTSTART;TZID=America/New_York:20201111T190000
DTEND;TZID=America/New_York:20201111T200000
DTSTAMP:20201104T172050Z
URL:https://uuberks.org/events/choir-night-2/
SUMMARY:Choir Night
DESCRIPTION:This fall choir is meeting over zoom every other week.  Each m
 eeting we get to stretch our voices from the comfort of our own homes.  T
 he commute time to choir has decreased to the click of a zoom link and the
  fun has increased to the speed of a laugh.  We have fun at choir!  Sing
 ing different songs from our hymnals and from our choir library.\nSo come 
 join us on: Nov 11th\, Nov 18th\, Dec 3rd\, Dec 17\nThis fall we get to co
 llaborate with Immanuel UCC\, and the Unitarian Church of Lancaster to rec
 ord stirring and beautiful music together.   Contact music.director@uub
 erks.org with any questions and for zoom link
END:VEVENT
BEGIN:VTIMEZONE
TZID:America/New_York
X-LIC-LOCATION:America/New_York
BEGIN:STANDARD
DTSTART:20201101T010000
TZOFFSETFROM:-0400
TZOFFSETTO:-0500
TZNAME:EST
END:STANDARD
END:VTIMEZONE
END:VCALENDAR