BEGIN:VCALENDAR
VERSION:2.0
PRODID:-//wp-events-plugin.com//7.2.3.1//EN
TZID:America/New_York
X-WR-TIMEZONE:America/New_York
BEGIN:VEVENT
UID:857@uuberks.org
DTSTART;TZID=America/New_York:20250126T000000
DTEND;TZID=America/New_York:20250126T000000
DTSTAMP:20241227T151129Z
URL:https://uuberks.org/events/committe-sunday/
SUMMARY:Committee Sunday
DESCRIPTION:\nIt takes a village to run FUUBC\, and our committees are the 
 heart of that village. Join us during Coffee Hour to explore the different
  committees and find your place! We'll have a table with information and s
 ign-up sheets.
END:VEVENT
BEGIN:VTIMEZONE
TZID:America/New_York
X-LIC-LOCATION:America/New_York
BEGIN:STANDARD
DTSTART:20241103T010000
TZOFFSETFROM:-0400
TZOFFSETTO:-0500
TZNAME:EST
END:STANDARD
END:VTIMEZONE
END:VCALENDAR