BEGIN:VCALENDAR
VERSION:2.0
PRODID:-//wp-events-plugin.com//7.2.3.1//EN
TZID:America/New_York
X-WR-TIMEZONE:America/New_York
BEGIN:VEVENT
UID:658@uuberks.org
DTSTART;TZID=America/New_York:20200504T190000
DTEND;TZID=America/New_York:20200504T203000
DTSTAMP:20200428T135232Z
URL:https://uuberks.org/events/contemplative-companions-2/
SUMMARY:Contemplative Companions
DESCRIPTION:Topic: Contemplative Companions\nTime: May 4\, 2020 07:00 PM Ea
 stern Time (US and Canada)\n\nJoin Zoom Meeting\nhttps://zoom.us/j/9603316
 7318?pwd=dHZvRmRnMTNWdDhIOG5WRnUwTEpQZz09\n\nMeeting ID: 960 3316 7318\nPa
 ssword: 2020-05-04\nOne tap mobile\n+19292056099\,\,96033167318#\,\,1#\,57
 6383# US (New York)
END:VEVENT
BEGIN:VTIMEZONE
TZID:America/New_York
X-LIC-LOCATION:America/New_York
BEGIN:DAYLIGHT
DTSTART:20200308T030000
TZOFFSETFROM:-0500
TZOFFSETTO:-0400
TZNAME:EDT
END:DAYLIGHT
END:VTIMEZONE
END:VCALENDAR