BEGIN:VCALENDAR
VERSION:2.0
PRODID:-//wp-events-plugin.com//7.2.3.1//EN
TZID:America/New_York
X-WR-TIMEZONE:America/New_York
BEGIN:VEVENT
UID:663@uuberks.org
DTSTART;TZID=America/New_York:20200706T190000
DTEND;TZID=America/New_York:20200706T210000
DTSTAMP:20200611T130607Z
URL:https://uuberks.org/events/contemplative-companions-3/
SUMMARY:Contemplative Companions
DESCRIPTION:First UU Berks is inviting you to a scheduled Zoom meeting.\n\n
 Topic: Contemplative Companions\nTime: Jul 6\, 2020 07:00 PM Eastern Time 
 (US and Canada)\n\nJoin Zoom Meeting\nhttps://zoom.us/j/94311930030\n\nMee
 ting ID: 943 1193 0030\n\nBy Phone:\n+13017158592\,\,94311930030# US (Germ
 antown)\nMeeting ID: 943 1193 0030
END:VEVENT
BEGIN:VTIMEZONE
TZID:America/New_York
X-LIC-LOCATION:America/New_York
BEGIN:DAYLIGHT
DTSTART:20200308T030000
TZOFFSETFROM:-0500
TZOFFSETTO:-0400
TZNAME:EDT
END:DAYLIGHT
END:VTIMEZONE
END:VCALENDAR