BEGIN:VCALENDAR
VERSION:2.0
PRODID:-//wp-events-plugin.com//7.2.3.1//EN
TZID:America/New_York
X-WR-TIMEZONE:America/New_York
BEGIN:VEVENT
UID:786@uuberks.org
DTSTART;TZID=America/New_York:20230920T190000
DTEND;TZID=America/New_York:20230920T203000
DTSTAMP:20230306T010042Z
URL:https://uuberks.org/events/ministry-operations-committee-meeting-2023-
 09-20/
SUMMARY:Ministry & Operations Committee Meeting
DESCRIPTION:
CATEGORIES:Community
END:VEVENT
BEGIN:VTIMEZONE
TZID:America/New_York
X-LIC-LOCATION:America/New_York
BEGIN:DAYLIGHT
DTSTART:20230312T030000
TZOFFSETFROM:-0500
TZOFFSETTO:-0400
TZNAME:EDT
END:DAYLIGHT
END:VTIMEZONE
END:VCALENDAR