BEGIN:VCALENDAR
VERSION:2.0
PRODID:-//wp-events-plugin.com//7.2.3.1//EN
TZID:America/New_York
X-WR-TIMEZONE:America/New_York
BEGIN:VEVENT
UID:819@uuberks.org
DTSTART;TZID=America/New_York:20240114T115000
DTEND;TZID=America/New_York:20240114T125000
DTSTAMP:20231221T034002Z
URL:https://uuberks.org/events/recorder-ensemble/
SUMMARY:Recorder Ensemble
DESCRIPTION:Maybe you remember learning to play a few notes on soprano reco
 rder in elementary school.  If this sounds interesting to you\, read on!
   \n\nWe are hoping to get a regular recorder ensemble started at UU Ber
 ks!  The UU recorder ensemble ( 3-10 players) plays music of many differe
 nt types\, focusing primarily on renaissance and baroque music\, but inclu
 des early classical\, folk\, and even some modern tunes!  We play soprano
 \, alto\, tenor\, and bass recorders\, but recorders come in many more siz
 es!\n\nPotential players might:\n\nHave an interest in playing a wind inst
 rument- \n\nCan read music or are willing to learn\n\nCan play the record
 er or are willing to learn\n\nCan meet for an hour once a month starting J
 anuary 14\n\nAre willing to practice the music between meetings\n\nAre wil
 ling to play at a church service when we feel ready\n\nIf you’re still r
 eading\, why not give it a try?  Please contact Tracy Blunt with any ques
 tions at: tracylblunt@comcast.net.  All ages between 10 and 110 are welco
 me.  \n\nWhen you email your interest\, please let Tracy know if you hav
 e an instrument of your own ( plastic recorders are fine) or if you need a
  recorder.  Tracy will email music to anyone interested who already has a
  recorder so you can look it over before our first meeting on January 14.
   Those who are total beginners or who don’t have a recorder\, Tracy wi
 ll give you music at the first meeting.  \n\nHere are links to some reco
 rder music in case you are interested in exploring a bit more:\n\n\n\n\n\n
 \n\nrenaissance recorder ensemble youtube\n\ngoogle.com\n\n\n\n\n\n\n\n\n\
 n\n\n\n\n\n\nrenaissance recorder ensemble youtube\n\ngoogle.com\n\n\n\n\n
 \n\n\n
CATEGORIES:Music
END:VEVENT
BEGIN:VTIMEZONE
TZID:America/New_York
X-LIC-LOCATION:America/New_York
BEGIN:STANDARD
DTSTART:20231105T010000
TZOFFSETFROM:-0400
TZOFFSETTO:-0500
TZNAME:EST
END:STANDARD
END:VTIMEZONE
END:VCALENDAR