BEGIN:VCALENDAR
VERSION:2.0
PRODID:-//wp-events-plugin.com//7.2.3.1//EN
TZID:America/New_York
X-WR-TIMEZONE:America/New_York
BEGIN:VEVENT
UID:802@uuberks.org
DTSTART;TZID=America/New_York:20230521T114500
DTEND;TZID=America/New_York:20230521T124500
DTSTAMP:20230426T175927Z
URL:https://uuberks.org/events/spring-congregational-meeting/
SUMMARY:Spring Congregational Meeting
DESCRIPTION:Mark your calendars for our Spring Congregational meeting. Thes
 e bi annual meetings give our members an opportunity to find out the lates
 t updates and vote on important issues. Please plan on attending Sunday\, 
 May 21st\, following coffee hour.
END:VEVENT
BEGIN:VTIMEZONE
TZID:America/New_York
X-LIC-LOCATION:America/New_York
BEGIN:DAYLIGHT
DTSTART:20230312T030000
TZOFFSETFROM:-0500
TZOFFSETTO:-0400
TZNAME:EDT
END:DAYLIGHT
END:VTIMEZONE
END:VCALENDAR