BEGIN:VCALENDAR
VERSION:2.0
PRODID:-//wp-events-plugin.com//7.2.3.1//EN
TZID:America/New_York
X-WR-TIMEZONE:America/New_York
BEGIN:VEVENT
UID:695@uuberks.org
DTSTART;TZID=America/New_York:20200624T090000
DTEND;TZID=America/New_York:20200628T220000
DTSTAMP:20200618T183417Z
URL:https://uuberks.org/events/virtual-general-assembly/
SUMMARY:Virtual General Assembly
DESCRIPTION:5 Reasons To Attend Virtual General Assembly June 24-28\n\nTher
 e are countless reasons to attend General Assembly. But here are 5 to cons
 ider this year:\n\n 	Featured Speaker Series – including Roxanne Dunba
 r-Ortiz\, an historian\, writer\, and professor emeritus in Ethic Studies 
 at California State University and author of ​the award-winning 2019-202
 0 UU Common Read An Indigenous Peoples’ History of the United States.\
 n 	General Sessions (registration not required) – including reports by 
 UUA president Susan Frederick-Gray\, presentations by the UU Service Commi
 ttee\, social justice actions of immediate witness\, and other social just
 ice statements.\n 	Worship – including Synergy Bridging Worship (regi
 stration not required)\, a transformative multigenerational worship.\n 	Wa
 re Lecture – by Naomi Klein\, the inaugural Gloria Steinem Endowed Cha
 ir in Media\, Culture and Feminist Studies at Rutgers University\, and an 
 award-winning journalist and New York Times bestselling author of On Fi
 re: The (Burning) Case for a Green New Deal (2019)\, The Battle for Parad
 ise: Puerto Rico Takes On the Disaster Capitalists (2018)\, and others.\
 n 	Programming – including numerous workshops on anti-racism\, climate 
 justice\, and spirituality/theology.\n\nTo register ($150) or learn more a
 bout Virtual GA\, click here.
END:VEVENT
BEGIN:VTIMEZONE
TZID:America/New_York
X-LIC-LOCATION:America/New_York
BEGIN:DAYLIGHT
DTSTART:20200308T030000
TZOFFSETFROM:-0500
TZOFFSETTO:-0400
TZNAME:EDT
END:DAYLIGHT
END:VTIMEZONE
END:VCALENDAR